BEGIN:VCALENDAR
VERSION:2.0
PRODID:-//Richmond Arts Coalition - ECPv6.15.18//NONSGML v1.0//EN
CALSCALE:GREGORIAN
METHOD:PUBLISH
X-ORIGINAL-URL:https://richmondartscoalition.com
X-WR-CALDESC:Events for Richmond Arts Coalition
REFRESH-INTERVAL;VALUE=DURATION:PT1H
X-Robots-Tag:noindex
X-PUBLISHED-TTL:PT1H
BEGIN:VTIMEZONE
TZID:America/Vancouver
BEGIN:DAYLIGHT
TZOFFSETFROM:-0800
TZOFFSETTO:-0700
TZNAME:PDT
DTSTART:20250309T100000
END:DAYLIGHT
BEGIN:STANDARD
TZOFFSETFROM:-0700
TZOFFSETTO:-0800
TZNAME:PST
DTSTART:20251102T090000
END:STANDARD
BEGIN:DAYLIGHT
TZOFFSETFROM:-0800
TZOFFSETTO:-0700
TZNAME:PDT
DTSTART:20260308T100000
END:DAYLIGHT
BEGIN:STANDARD
TZOFFSETFROM:-0700
TZOFFSETTO:-0800
TZNAME:PST
DTSTART:20261101T090000
END:STANDARD
BEGIN:DAYLIGHT
TZOFFSETFROM:-0800
TZOFFSETTO:-0700
TZNAME:PDT
DTSTART:20270314T100000
END:DAYLIGHT
BEGIN:STANDARD
TZOFFSETFROM:-0700
TZOFFSETTO:-0800
TZNAME:PST
DTSTART:20271107T090000
END:STANDARD
BEGIN:DAYLIGHT
TZOFFSETFROM:-0800
TZOFFSETTO:-0700
TZNAME:PDT
DTSTART:20280312T100000
END:DAYLIGHT
BEGIN:STANDARD
TZOFFSETFROM:-0700
TZOFFSETTO:-0800
TZNAME:PST
DTSTART:20281105T090000
END:STANDARD
END:VTIMEZONE
BEGIN:VEVENT
DTSTART;VALUE=DATE:20260301
DTEND;VALUE=DATE:20260701
DTSTAMP:20260425T092118
CREATED:20260307T024113Z
LAST-MODIFIED:20260307T024113Z
UID:35812-1772323200-1782863999@richmondartscoalition.com
SUMMARY:No. 3 Road Art Columns
DESCRIPTION:Ongoing – June 30\nNo. 3 Road Art Columns\nCanada Line: Aberdeen and Lansdowne Stations\nArtwork by Richmond artists Quinton Qiu\, Adrienne Moore\, and Juliana Loh.\nWebsite: https://www.richmond.ca/culture/howartworks/publicart/programs.htm
URL:https://richmondartscoalition.com/event/no-3-road-art-columns/
LOCATION:Aberdeen Centre and Lansdowne Centre Skytrain Stations
CATEGORIES:Art Exhibition
END:VEVENT
BEGIN:VEVENT
DTSTART;VALUE=DATE:20260309
DTEND;VALUE=DATE:20270302
DTSTAMP:20260425T092118
CREATED:20260316T224442Z
LAST-MODIFIED:20260316T224442Z
UID:35882-1773014400-1803945599@richmondartscoalition.com
SUMMARY:City of Richmond 2026 Street Banners
DESCRIPTION:Ongoing – March 2027\nCity of Richmond 2026 Street Banners\n10 Street Banner visual art designs and wordmarks were selected by the community for display on the streets of Richmond.  The banners were installed in March 2026 and will be replaced in March 2027 by the future Banner Contest Winners. Over 470 individual banner design entries were received.\nVideo profiling this year’s artists: https://richmond.ca/parks-recreation/parks/programs/banners.htm \nAlternate Website: https://richmondstreetbanners.squarespace.com/current
URL:https://richmondartscoalition.com/event/city-of-richmond-2026-street-banners/
LOCATION:BC
CATEGORIES:Art Exhibition
END:VEVENT
BEGIN:VEVENT
DTSTART;VALUE=DATE:20260310
DTEND;VALUE=DATE:20260609
DTSTAMP:20260425T092118
CREATED:20260421T044930Z
LAST-MODIFIED:20260421T044930Z
UID:36274-1773100800-1780963199@richmondartscoalition.com
SUMMARY:Exhibition: Cat Hart – Material Remains
DESCRIPTION:Ongoing – June 8\nExhibition: Cat Hart – Material Remains\nCity Hall Galleria\n6911 No. 3 Road\nGuided by their interest in place\, belonging\, and home\, Cat Hart’s exhibition Material Remains explores the layered histories of Mitchell Island and Steveston through experimental film photography. Using double exposures\, Hart brings together images of plant life—both native and invasive—with remnants of early industry and contemporary sites of heavy industry and waste processing\, highlighting ecologies that persist amid ongoing human intervention.\nWebsite: https://www.richmondartgallery.org/material-remains
URL:https://richmondartscoalition.com/event/exhibition-cat-hart-material-remains/
LOCATION:Richmond City Hall\, 6911 No. 3 Road\, Richmond\, BC\, V6Y 2C1\, Canada
CATEGORIES:Art Exhibition
END:VEVENT
BEGIN:VEVENT
DTSTART;VALUE=DATE:20260401
DTEND;VALUE=DATE:20270302
DTSTAMP:20260425T092118
CREATED:20260320T101238Z
LAST-MODIFIED:20260320T101238Z
UID:35935-1775001600-1803945599@richmondartscoalition.com
SUMMARY:Exhibition – Keely-O’Brien: Secret Ingredients
DESCRIPTION:April 1 – March 1 2027\nExhibition – Keely-O’Brien: Secret Ingredients\nRichmond-Brighouse Skytrain Station\nSecret Ingredients began as a call by the artist for the public to submit messages they found difficult to express directly to someone in their life\, but felt ready to share. These messages were transformed into decorated cakes and delivered to the intended recipients as an edible form of communication. Exhibited now as a series of photographs at the Canada Line’s Richmond-Brighouse Station\, they become an unexpected moment of reflection during a commute.\nWebsite: https://www.richmondartgallery.org/secret-ingredients
URL:https://richmondartscoalition.com/event/exhibition-keely-obrien-secret-ingredients/
LOCATION:Richmond-Brighouse Skytrain Station
CATEGORIES:Art Exhibition
END:VEVENT
BEGIN:VEVENT
DTSTART;VALUE=DATE:20260401
DTEND;VALUE=DATE:20270302
DTSTAMP:20260425T092118
CREATED:20260320T101440Z
LAST-MODIFIED:20260320T101440Z
UID:35938-1775001600-1803945599@richmondartscoalition.com
SUMMARY:Exhibition – Michael Love: No Place
DESCRIPTION:April 1 – March 1 2027\nExhibition – Michael Love: No Place\nLansdowne Skytrain Station\nNo Place utilizes hand-cut collage\, assemblage\, and re-photography to forge layered connections between architecture\, history\, and ideology. The resulting composition serves as a speculative reconstruction that reimagines both physical and ideological spaces.\nWebsite: https://www.richmondartgallery.org/no-place
URL:https://richmondartscoalition.com/event/exhibition-michael-love-no-place/
LOCATION:Lansdowne Skytrain Station\, ‎5400 No. 3 Road\, Richmond\, BC\, Canada
CATEGORIES:Art Exhibition
END:VEVENT
BEGIN:VEVENT
DTSTART;VALUE=DATE:20260401
DTEND;VALUE=DATE:20270302
DTSTAMP:20260425T092118
CREATED:20260320T101907Z
LAST-MODIFIED:20260320T101907Z
UID:35940-1775001600-1803945599@richmondartscoalition.com
SUMMARY:Exhibition – Sylvan Hamburger: Rewilding (Autumn & Spring)
DESCRIPTION:April 1 – March 1 2027\nExhibition – Sylvan Hamburger: Rewilding (Autumn & Spring)\nAberdeen Skytrain Station\nThis installation at Aberdeen Station is part of an ongoing project by the artist in response to the region’s changing built environment. The photo installation depicts two concrete lion finials salvaged from the gates of a demolished Vancouver Special. Each season\, the lions are painted and placed in various overgrown locations throughout the city. Mimicking their original position at the gates of the former home\, the reimagined lions stand guard at the entrance to the Canada Line station.\nWebsite: https://www.richmondartgallery.org/rewilding-autumn-spring
URL:https://richmondartscoalition.com/event/exhibition-sylvan-hamburger-rewilding-autumn-spring/
LOCATION:Aberdeen Skytrain Station\, ‎4100 No. 3 Road\, Richmond\, BC\, V6X 4E8\, Canada
CATEGORIES:Art Exhibition
END:VEVENT
BEGIN:VEVENT
DTSTART;VALUE=DATE:20260404
DTEND;VALUE=DATE:20260621
DTSTAMP:20260425T092118
CREATED:20260421T062917Z
LAST-MODIFIED:20260421T062917Z
UID:36282-1775260800-1781999999@richmondartscoalition.com
SUMMARY:Richmond Writer-in-Residence Activities
DESCRIPTION:April 4 – June 20 (various)\nRichmond Writer-in-Residence Activities\nThe City of Richmond\, in partnership with Richmond Public Library\, welcomes Aaron Chan as the 2026 Writer-in-Residence. During his residency\, Aaron will explore themes of queerness\, intersectionality\, identity and bridging cultural and generational divides in his work. He values experimentation and constantly seeks to push the boundaries of prose in his writing while prioritizing telling heartfelt\, emotional stories.\nWebsite: https://www.richmond.ca/culture/howartworks/artists-opportunities/writerinresidence.htm
URL:https://richmondartscoalition.com/event/richmond-writer-in-residence-activities/
LOCATION:Brighouse Library\, 100-7700 Minoru Gate\, Richmond\, British Columbia\, V6Y 1R8\, Canada
CATEGORIES:Artist Salon or Author Event,Interactive Activity
END:VEVENT
BEGIN:VEVENT
DTSTART;VALUE=DATE:20260418
DTEND;VALUE=DATE:20260706
DTSTAMP:20260425T092118
CREATED:20260320T102441Z
LAST-MODIFIED:20260320T102441Z
UID:35944-1776470400-1783295999@richmondartscoalition.com
SUMMARY:Exhibition: I digress
DESCRIPTION:April 18 – July 5\nExhibition: I digress\nRichmond Art Gallery\n7700 Minoru Gate\nRepresenting a wide range of perspectives\, this group exhibition will present artists who engage with both lived experiences and collective histories in their art practices. Some artists embrace an autobiographical or confessional vein\, drawing from memoirs\, diaries\, and photo-albums\, while others mine existing archives and ephemera found in the public realm\, employing a more documentary approach. Artists include Simranpreet Anand\, Jo-Anne Balcaen\, August Klintberg\, Anne Koizumi\, Lindsay McIntyre\, and Gonzalo Reyes Rodriguez.\nWebsite: https://www.richmondartgallery.org/i-digress
URL:https://richmondartscoalition.com/event/exhibition-i-digress/
LOCATION:Richmond Art Gallery\, 7700 Minoru Gate\, Richmond\, BC\, V6Y 1R8\, Canada
CATEGORIES:Art Exhibition
END:VEVENT
BEGIN:VEVENT
DTSTART;VALUE=DATE:20260418
DTEND;VALUE=DATE:20260706
DTSTAMP:20260425T092118
CREATED:20260320T102648Z
LAST-MODIFIED:20260320T102648Z
UID:35946-1776470400-1783295999@richmondartscoalition.com
SUMMARY:Exhibition – SIDE CORE: under city
DESCRIPTION:April 18 – July 5\nExhibition – SIDE CORE: under city\nRichmond Art Gallery\n7700 Minoru Gate\nRichmond Art Gallery presents the first North American exhibition of Japanese artist collective SIDE CORE. Known for site-specific projects that blur the boundaries between contemporary art\, skate culture\, and urban infrastructure\, the Tokyo-based collective presents a selection of video works and photographs that explore the often-overlooked spaces of the city—from highways and railroads to drainage tunnels and underground waterways.\nWebsite: https://www.richmondartgallery.org/side-core
URL:https://richmondartscoalition.com/event/exhibition-side-core-under-city/
LOCATION:Richmond Art Gallery\, 7700 Minoru Gate\, Richmond\, BC\, V6Y 1R8\, Canada
CATEGORIES:Art Exhibition
END:VEVENT
BEGIN:VEVENT
DTSTART;VALUE=DATE:20260418
DTEND;VALUE=DATE:20260706
DTSTAMP:20260425T092118
CREATED:20260320T102923Z
LAST-MODIFIED:20260320T102923Z
UID:35948-1776470400-1783295999@richmondartscoalition.com
SUMMARY:Exhibition – Collection Close-up: Beach Walk (Alan Wood)
DESCRIPTION:April 18 – July 5\nExhibition – Collection Close-up: Beach Walk (Alan Wood)\nRichmond Art Gallery\n7700 Minoru Gate\nAlan Wood’s oeuvre reveals a deep fascination with time\, process\, and documentation as well as a long-term interest in colour and the BC landscape. In Beach Walk\, he captures the gradual accumulation of debris on a Gulf Island beach\, shaped by the relentless waves that bring marine life and particles from the Gulf onto the sand.\nWebsite: https://www.richmondartgallery.org/collection-close-up-beach-walk
URL:https://richmondartscoalition.com/event/exhibition-collection-close-up-beach-walk-alan-wood/
LOCATION:Richmond Art Gallery\, 7700 Minoru Gate\, Richmond\, BC\, V6Y 1R8\, Canada
CATEGORIES:Art Exhibition
END:VEVENT
BEGIN:VEVENT
DTSTART;TZID=America/Vancouver:20260505T190000
DTEND;TZID=America/Vancouver:20260505T200000
DTSTAMP:20260425T092118
CREATED:20260421T041106Z
LAST-MODIFIED:20260421T041106Z
UID:36253-1778007600-1778011200@richmondartscoalition.com
SUMMARY:Richmond Sings – ROCA
DESCRIPTION:May 5\, 7pm-8pm\nRichmond Sings – ROCA\nFraserview Church\n11295 Mellis Drive\nAn evening of music offered by various groups from around Richmond. All sizes\, all ages\, all styles! This performance is free and open to the public. Donations are graciously received for programs providing meals to our community. If you would like to participate in this event\, please contact us ASAP – we are still accepting groups to join us.\nWebsite: https://www.roca.ca/roca-concert-season/2026richmondsings
URL:https://richmondartscoalition.com/event/richmond-sings-roca/
LOCATION:Fraserview MB Church\, 11295 Mellis Drive\, Richmond\, BC\, V6X 1L8\, Canada
CATEGORIES:Concert,Performance
END:VEVENT
END:VCALENDAR