BEGIN:VCALENDAR
VERSION:2.0
PRODID:-//Richmond Arts Coalition - ECPv6.15.18//NONSGML v1.0//EN
CALSCALE:GREGORIAN
METHOD:PUBLISH
X-WR-CALNAME:Richmond Arts Coalition
X-ORIGINAL-URL:https://richmondartscoalition.com
X-WR-CALDESC:Events for Richmond Arts Coalition
REFRESH-INTERVAL;VALUE=DURATION:PT1H
X-Robots-Tag:noindex
X-PUBLISHED-TTL:PT1H
BEGIN:VTIMEZONE
TZID:America/Vancouver
BEGIN:DAYLIGHT
TZOFFSETFROM:-0800
TZOFFSETTO:-0700
TZNAME:PDT
DTSTART:20240310T100000
END:DAYLIGHT
BEGIN:STANDARD
TZOFFSETFROM:-0700
TZOFFSETTO:-0800
TZNAME:PST
DTSTART:20241103T090000
END:STANDARD
BEGIN:DAYLIGHT
TZOFFSETFROM:-0800
TZOFFSETTO:-0700
TZNAME:PDT
DTSTART:20250309T100000
END:DAYLIGHT
BEGIN:STANDARD
TZOFFSETFROM:-0700
TZOFFSETTO:-0800
TZNAME:PST
DTSTART:20251102T090000
END:STANDARD
BEGIN:DAYLIGHT
TZOFFSETFROM:-0800
TZOFFSETTO:-0700
TZNAME:PDT
DTSTART:20260308T100000
END:DAYLIGHT
BEGIN:STANDARD
TZOFFSETFROM:-0700
TZOFFSETTO:-0800
TZNAME:PST
DTSTART:20261101T090000
END:STANDARD
END:VTIMEZONE
BEGIN:VEVENT
DTSTART;TZID=America/Vancouver:20250201T120000
DTEND;TZID=America/Vancouver:20250201T170000
DTSTAMP:20260425T180520
CREATED:20250121T232209Z
LAST-MODIFIED:20250121T232209Z
UID:31371-1738411200-1738429200@richmondartscoalition.com
SUMMARY:Lunar New Year Celebration at Lansdowne Centre
DESCRIPTION:February 1\nLunar New Year Celebration at Lansdowne Centre\nLansdowne Centre\n5300 No. 3 Road\n12pm-5pm\nCelebrate the Year of the Snake with joy and tradition at Lansdowne Centre! Immerse yourself in a day packed with cultural festivities and family-friendly fun as we celebrate the Year of the Snake. Witness the captivating Dragon Dance Performance a vibrant performance symbolizing prosperity and joy. Get ready for the Giant Snakes & Ladders Game an exciting interactive activity that is beyond entertaining but also supports a charitable cause. Test your skills in the Ring Toss Challenge and win amazing prizes or get creative at the Arts & Crafts Workshop to bring home your unique personalized craft as a cherished memento. This celebration is not just about fun—it’s also for a great cause. All donations will support the VGH & UBC Hospital Foundation helping to transform specialized adult healthcare in BC. Bring your friends and family for a celebration that promises to be both memorable and meaningful!\nWebsite: https://lansdowne-centre.com/events-latest-news/
URL:https://richmondartscoalition.com/event/lunar-new-year-celebration-at-lansdowne-centre/
LOCATION:Lansdowne Centre\, 5300 No. 3 Road\, Richmond\, British Columbia\, V6X 2X9\, Canada
CATEGORIES:Dance,Interactive Activity,Performance
END:VEVENT
BEGIN:VEVENT
DTSTART;TZID=America/Vancouver:20250206T183000
DTEND;TZID=America/Vancouver:20250206T203000
DTSTAMP:20260425T180520
CREATED:20250121T230717Z
LAST-MODIFIED:20250121T230717Z
UID:31354-1738866600-1738873800@richmondartscoalition.com
SUMMARY:RAG Collage Club: Inaugural Session!
DESCRIPTION:February 6\nRAG Collage Club: Inaugural Session!\nRichmond Art Gallery\n7700 Minoru Gate\n6:30pm-8:30pm\nRichmond Art Gallery and the Richmond Media Lab host a monthly art-making social for adults. Get together with friends and make some art! Open studio time led by gallery staff for adult participants to cut and paste with a variety of materials and tools while you chat\, listen to music\, and sip some tea at our Collage Club social. Inspired by the Gallery’s exhibitions\, each month will feature a new theme to inspire our projects. We will also connect to international collage groups for you to share your collage works online\, and provide printed copies of upcoming challenges from the Paris Collage Collective\, Februllage\, World Collage Day\, and more. Register for $5\, which includes all art supplies and equipment usage.\nWebsite: https://www.richmondartgallery.org/cc-feb25
URL:https://richmondartscoalition.com/event/rag-collage-club-inaugural-session/
LOCATION:Richmond Art Gallery\, 7700 Minoru Gate\, Richmond\, BC\, V6Y 1R8\, Canada
CATEGORIES:Interactive Activity
END:VEVENT
BEGIN:VEVENT
DTSTART;TZID=America/Vancouver:20250208T130000
DTEND;TZID=America/Vancouver:20250208T160000
DTSTAMP:20260425T180520
CREATED:20250121T223614Z
LAST-MODIFIED:20250121T223614Z
UID:31334-1739019600-1739030400@richmondartscoalition.com
SUMMARY:2025 Lunar New Year Celebration
DESCRIPTION:February 8\n2025 Lunar New Year Celebration\nBrighouse Library\n7700 Minoru Gate\n1pm-4pm\nImmerse yourself in the festivities\, culture\, and traditions of the Lunar New Year! Join us for family-friendly activities and performances\, including a lion dance\, Kung Fu demonstration\, Chinese art and calligraphy\, singing\, dancing and guzheng performances\, lantern riddles\, face painting\, children’s games\, paper crafts\, and more! No registration is required for this drop-in event.\nWebsite: https://yourlibrary.bibliocommons.com/events/674f4fcdb4127941005988c2
URL:https://richmondartscoalition.com/event/2025-lunar-new-year-celebration/
LOCATION:Brighouse Library\, 100-7700 Minoru Gate\, Richmond\, British Columbia\, V6Y 1R8\, Canada
CATEGORIES:Art Exhibition,Concert,Dance,Interactive Activity,Performance
END:VEVENT
BEGIN:VEVENT
DTSTART;TZID=America/Vancouver:20250208T190000
DTEND;TZID=America/Vancouver:20250208T223000
DTSTAMP:20260425T180520
CREATED:20250121T232648Z
LAST-MODIFIED:20250121T232648Z
UID:31375-1739041200-1739053800@richmondartscoalition.com
SUMMARY:Live Band Night at The Hub
DESCRIPTION:February 8\nLive Band Night at The Hub\nThe Steveston Hub\n3553 Moncton Street\n7pm-10:30pm\nCelebrate the new year with an evening of music and dance in the heart of Steveston! No dance or music experience required\, join the Beginner workshop\, and come for a good time! All ages are welcome. The Hub is on the second floor.\nWebsite: https://www.swingoutrichmond.ca/events
URL:https://richmondartscoalition.com/event/live-band-night-at-the-hub/
LOCATION:Steveston Hub\, 3551 Moncton Street\, Richmond\, BC\, Canada
CATEGORIES:Dance,Interactive Activity
END:VEVENT
BEGIN:VEVENT
DTSTART;TZID=America/Vancouver:20250217T103000
DTEND;TZID=America/Vancouver:20250217T163000
DTSTAMP:20260425T180520
CREATED:20250201T214432Z
LAST-MODIFIED:20250201T214432Z
UID:31429-1739788200-1739809800@richmondartscoalition.com
SUMMARY:Children’s Arts Festival: Creature of Nature: A Collaborative Sculpture Project
DESCRIPTION:February 17\nChildren’s Arts Festival: Creature of Nature: A Collaborative Sculpture Project\nRichmond Cultural Centre\n7700 Minoru Gate\n10:30am-4:30pm\nAn Imagination Station with Tarcila Neves and Nickie Lewis.\nWebsite: https://www.richmond.ca/culture/calendar/special-events/blackhistory.htm
URL:https://richmondartscoalition.com/event/childrens-arts-festival-creature-of-nature-a-collaborative-sculpture-project/
LOCATION:British Columbia
CATEGORIES:Artist Salon or Author Event,Interactive Activity
END:VEVENT
BEGIN:VEVENT
DTSTART;TZID=America/Vancouver:20250217T103000
DTEND;TZID=America/Vancouver:20250217T170000
DTSTAMP:20260425T180520
CREATED:20250121T233011Z
LAST-MODIFIED:20250121T233011Z
UID:31377-1739788200-1739811600@richmondartscoalition.com
SUMMARY:The Richmond Children’s Arts Festival
DESCRIPTION:February 17\nThe Richmond Children’s Arts Festival\nRichmond Cultural Centre/Annex\n7700 Minoru Gate\n10:30am-5pm\nHave your little ones ignite their creativity through a full-day of engaging arts programming that spans crafts\, music\, and more. Free performances and Imagination Station activities are open to all. Specialized Creativity Classes require pre-registration and are only $10 per session. We can’t wait to see you there!\nWebsite: https://www.childrensartsfestival.ca/
URL:https://richmondartscoalition.com/event/the-richmond-childrens-arts-festival/
LOCATION:Richmond Cultural Centre\, 7700 Minoru Gate\, Richmond\, BC\, V6Y 1R9\, Canada
CATEGORIES:Art Exhibition,Artist Salon or Author Event,Auction, Craft Fair or Farmers Market,Concert,Dance,Interactive Activity,Performance,Play
END:VEVENT
BEGIN:VEVENT
DTSTART;TZID=America/Vancouver:20250222T100000
DTEND;TZID=America/Vancouver:20250222T160000
DTSTAMP:20260425T180520
CREATED:20250131T214750Z
LAST-MODIFIED:20250131T214750Z
UID:31400-1740218400-1740240000@richmondartscoalition.com
SUMMARY:‘Intro to Stained Glass’ with Joni Newman
DESCRIPTION:February 22\n‘Intro to Stained Glass’ with Joni Newman\nOur Saviour Lutheran Church\n6340 No 4 Rd\n10am-4pm\nIn partnership with Dragonfly Quilting and Gifts. Joni has a wonderful Stained Glass technique that doesn’t involve tiny strips of bis tape. Join us to find out about this beautiful technique. Class includes the kit but not the fusible\, black or border fabric. Those can be purchased at the class or online and will be delivered to the class.\nMore Information: https://tagor.ca/2025/01/21/intro-to-stained-glass-with-joni-newman/\nTo Register: https://www.dragonflyquiltingandgifts.com/module/class/581684/tagor-workshop-with-joni-newman
URL:https://richmondartscoalition.com/event/intro-to-stained-glass-with-joni-newman/
LOCATION:Our Saviour Lutheran Church\, 6340 No 4 Rd\, Richmond\, BC\, Canada
CATEGORIES:Artist Salon or Author Event,Interactive Activity
END:VEVENT
BEGIN:VEVENT
DTSTART;TZID=America/Vancouver:20250222T140000
DTEND;TZID=America/Vancouver:20250222T160000
DTSTAMP:20260425T180520
CREATED:20250121T230432Z
LAST-MODIFIED:20250121T230432Z
UID:31350-1740232800-1740240000@richmondartscoalition.com
SUMMARY:Memory Ware Workshop with Alex Tedlie-Stursberg
DESCRIPTION:February 22\nMemory Ware Workshop with Alex Tedlie-Stursberg\nRichmond Art Gallery\n7700 Minoru Gate\n2pm-4pm\nJoin exhibiting artist Alex Tedlie-Stursberg for a hands-on workshop where we’ll explore the art of memory ware—unique\, personal keepsakes crafted from found objects and air-dry clay. In this creative session\, you’ll be able to transform everyday items into lasting memories\, all while learning new artistic techniques and celebrating the beauty of objects with personal significance. Limited to 24 participants. $10.00 fee includes all materials.\nWebsite to Register: https://www.richmondartgallery.org/memory-ware
URL:https://richmondartscoalition.com/event/memory-ware-workshop-with-alex-tedlie-stursberg/
LOCATION:Richmond Art Gallery\, 7700 Minoru Gate\, Richmond\, BC\, V6Y 1R8\, Canada
CATEGORIES:Art Exhibition,Artist Salon or Author Event,Interactive Activity
END:VEVENT
BEGIN:VEVENT
DTSTART;TZID=America/Vancouver:20250228T190000
DTEND;TZID=America/Vancouver:20250228T210000
DTSTAMP:20260425T180520
CREATED:20250217T215527Z
LAST-MODIFIED:20250217T215527Z
UID:31622-1740769200-1740776400@richmondartscoalition.com
SUMMARY:RPC Chimes Choir Concert & Workshop
DESCRIPTION:February 28\nRPC Chimes Choir Concert & Workshop\nRichmond Presbyterian Church\n7111 No. 2 Road\n7pm\nDiscover the history of hand chimes as a music instrument\, their implementation in society\, and how they are played! Most importantly\, you’ll have the chance to make music yourself! Throughout the evening\, our RPC Chimes Choir will also present beautiful hand chime performances. Whether you’re a musician or just curious\, this is a wonderful opportunity to learn\, listen\, and play.\nWebsite: https://richpres.com/chimesfeb2025/
URL:https://richmondartscoalition.com/event/rpc-chimes-choir-concert-workshop/
LOCATION:Richmond Presbyterian Church\, 7111 No. 2 Road\, Richmond\, bc\, Canada
CATEGORIES:Concert,Interactive Activity,Performance
END:VEVENT
END:VCALENDAR