BEGIN:VCALENDAR
VERSION:2.0
PRODID:-//Richmond Arts Coalition - ECPv6.15.18//NONSGML v1.0//EN
CALSCALE:GREGORIAN
METHOD:PUBLISH
X-ORIGINAL-URL:https://richmondartscoalition.com
X-WR-CALDESC:Events for Richmond Arts Coalition
REFRESH-INTERVAL;VALUE=DURATION:PT1H
X-Robots-Tag:noindex
X-PUBLISHED-TTL:PT1H
BEGIN:VTIMEZONE
TZID:America/Vancouver
BEGIN:DAYLIGHT
TZOFFSETFROM:-0800
TZOFFSETTO:-0700
TZNAME:PDT
DTSTART:20240310T100000
END:DAYLIGHT
BEGIN:STANDARD
TZOFFSETFROM:-0700
TZOFFSETTO:-0800
TZNAME:PST
DTSTART:20241103T090000
END:STANDARD
BEGIN:DAYLIGHT
TZOFFSETFROM:-0800
TZOFFSETTO:-0700
TZNAME:PDT
DTSTART:20250309T100000
END:DAYLIGHT
BEGIN:STANDARD
TZOFFSETFROM:-0700
TZOFFSETTO:-0800
TZNAME:PST
DTSTART:20251102T090000
END:STANDARD
BEGIN:DAYLIGHT
TZOFFSETFROM:-0800
TZOFFSETTO:-0700
TZNAME:PDT
DTSTART:20260308T100000
END:DAYLIGHT
BEGIN:STANDARD
TZOFFSETFROM:-0700
TZOFFSETTO:-0800
TZNAME:PST
DTSTART:20261101T090000
END:STANDARD
END:VTIMEZONE
BEGIN:VEVENT
DTSTART;TZID=America/Vancouver:20250503T190000
DTEND;TZID=America/Vancouver:20250503T223000
DTSTAMP:20260425T121341
CREATED:20250415T034931Z
LAST-MODIFIED:20250415T034931Z
UID:32299-1746298800-1746311400@richmondartscoalition.com
SUMMARY:Swingout Richmond Live Band Night - Live music by Backporch Serenaders
DESCRIPTION:May 3\nSwingout Richmond Live Band Night – Live music by Backporch Serenaders\n3551 Moncton Street\n7pm-10:30pm\nEnjoy an evening of music and dance in the heart of Steveston! No dance or music experience required\, join the Beginner workshop\, and come for a good time! All ages are welcome.\nWebsite: https://swingoutrichmond.square.site/
URL:https://richmondartscoalition.com/event/swingout-richmond-live-band-night-live-music-by-backporch-serenaders/
LOCATION:3551 Moncton Street\, 3551 Moncton Street\, Richmond\, Canada
CATEGORIES:Concert,Dance,Interactive Activity,Performance
END:VEVENT
BEGIN:VEVENT
DTSTART;TZID=America/Vancouver:20250530T160000
DTEND;TZID=America/Vancouver:20250530T190000
DTSTAMP:20260425T121341
CREATED:20250520T080205Z
LAST-MODIFIED:20250520T080205Z
UID:32605-1748620800-1748631600@richmondartscoalition.com
SUMMARY:Happy Hour – Featuring “Murderers” by Jeffrey Hatcher
DESCRIPTION:May 30\nHappy Hour – Featuring “Murderers” by Jeffrey Hatcher\nLulu Island Winery\n16880 Westminster Hwy\n4pm-7pm\nMurder is happening at LuLu Island Winery! Meet 3 suspects who are charged with murder—BUT are they really guilty? Come see if they can prove their innocence (or not) in this thrilling show by Naked Stage Readers Theatre. Don’t miss out on the mystery\, laughter\, and of course\, great wine.\nWebsite: https://www.luluislandwinery.com/happyhour
URL:https://richmondartscoalition.com/event/happy-hour-featuring-murderers-by-jeffrey-hatcher/
LOCATION:Lulu Island Winery\, 16880 Westminster Hwy\, Richmond\, BC\, Canada
CATEGORIES:Interactive Activity,Performance,Play
END:VEVENT
END:VCALENDAR