BEGIN:VCALENDAR
VERSION:2.0
PRODID:-//Richmond Arts Coalition - ECPv6.15.18//NONSGML v1.0//EN
CALSCALE:GREGORIAN
METHOD:PUBLISH
X-ORIGINAL-URL:https://richmondartscoalition.com
X-WR-CALDESC:Events for Richmond Arts Coalition
REFRESH-INTERVAL;VALUE=DURATION:PT1H
X-Robots-Tag:noindex
X-PUBLISHED-TTL:PT1H
BEGIN:VTIMEZONE
TZID:America/Vancouver
BEGIN:DAYLIGHT
TZOFFSETFROM:-0800
TZOFFSETTO:-0700
TZNAME:PDT
DTSTART:20240310T100000
END:DAYLIGHT
BEGIN:STANDARD
TZOFFSETFROM:-0700
TZOFFSETTO:-0800
TZNAME:PST
DTSTART:20241103T090000
END:STANDARD
BEGIN:DAYLIGHT
TZOFFSETFROM:-0800
TZOFFSETTO:-0700
TZNAME:PDT
DTSTART:20250309T100000
END:DAYLIGHT
BEGIN:STANDARD
TZOFFSETFROM:-0700
TZOFFSETTO:-0800
TZNAME:PST
DTSTART:20251102T090000
END:STANDARD
BEGIN:DAYLIGHT
TZOFFSETFROM:-0800
TZOFFSETTO:-0700
TZNAME:PDT
DTSTART:20260308T100000
END:DAYLIGHT
BEGIN:STANDARD
TZOFFSETFROM:-0700
TZOFFSETTO:-0800
TZNAME:PST
DTSTART:20261101T090000
END:STANDARD
END:VTIMEZONE
BEGIN:VEVENT
DTSTART;VALUE=DATE:20250607
DTEND;VALUE=DATE:20250608
DTSTAMP:20260425T105847
CREATED:20250520T091005Z
LAST-MODIFIED:20250520T091005Z
UID:32654-1749254400-1749340799@richmondartscoalition.com
SUMMARY:Steveston Spot Prawn Day
DESCRIPTION:June 7\nSteveston Spot Prawn Day\nSteveston\nJoin us for our biggest day of the Spot Prawn & Seafood Celebration! Enjoy activities for all ages happening between the Fisherman’s Wharf and The Gulf of Georgia Cannery. There will be live music throughout the day on the boardwalk including a local Sea Shanty! And Circus West will be performing throughout the day. Learn about Gyotaku\, the traditional Japanese method of fish printing\, and try it for yourself! There will also be facepainting\, an inflatable bouncy boat and live performances for the kids to enjoy.\nWebsite: https://www.visitrichmondbc.com/steveston-spot-prawn-seafood-celebration/spot-prawn-day/
URL:https://richmondartscoalition.com/event/steveston-spot-prawn-day/
LOCATION:British Columbia
CATEGORIES:Artist Salon or Author Event,Auction, Craft Fair or Farmers Market,Interactive Activity,Performance
END:VEVENT
BEGIN:VEVENT
DTSTART;VALUE=DATE:20250607
DTEND;VALUE=DATE:20250609
DTSTAMP:20260425T105847
CREATED:20250520T090003Z
LAST-MODIFIED:20250520T090003Z
UID:32648-1749254400-1749427199@richmondartscoalition.com
SUMMARY:Doors Open Richmond
DESCRIPTION:June 7 – June 8\nDoors Open Richmond\nDoors Open Richmond is a free annual celebration that raises civic awareness and showcases the diverse\, multicultural places and communities of the city. This year’s event brings together over 50 partner sites spanning art studios\, national historic sites\, agricultural farms\, and religious organizations that highlight the diversity of the city. \nSite Map: https://www.richmondmuseum.ca/doors-open-sites/
URL:https://richmondartscoalition.com/event/doors-open-richmond/
LOCATION:British Columbia
CATEGORIES:Art Exhibition,Artist Salon or Author Event,Interactive Activity,Photo Exhibition
END:VEVENT
BEGIN:VEVENT
DTSTART;VALUE=DATE:20250614
DTEND;VALUE=DATE:20250616
DTSTAMP:20260425T105847
CREATED:20250520T075330Z
LAST-MODIFIED:20250520T075330Z
UID:32593-1749859200-1750031999@richmondartscoalition.com
SUMMARY:The Anime Fest
DESCRIPTION:June 14 – June 15\nThe Anime Fest\nLansdowne Centre\n5300 No. 3 Road\nLansdowne Centre\, in partnership with our tenant Magic Chest\, is bringing Anime Fest to life on June 14–15! This free two-day event will transform the mall into a vibrant celebration of anime\, cosplay\, gaming\, and pop culture. Grab your friends\, family\, or fellow fans and enjoy a weekend full of energy\, creativity\, and immersive experiences — all under one roof at Lansdowne Centre.\nWebsite: https://lansdowne-centre.com/anime-fest/
URL:https://richmondartscoalition.com/event/the-anime-fest/
LOCATION:Lansdowne Centre\, 5300 No. 3 Road\, Richmond\, British Columbia\, V6X 2X9\, Canada
CATEGORIES:Art Exhibition,Interactive Activity,Performance
END:VEVENT
BEGIN:VEVENT
DTSTART;TZID=America/Vancouver:20250614T190000
DTEND;TZID=America/Vancouver:20250614T223000
DTSTAMP:20260425T105847
CREATED:20250520T074922Z
LAST-MODIFIED:20250520T074922Z
UID:32590-1749927600-1749940200@richmondartscoalition.com
SUMMARY:Swingout Richmond Live Band Night
DESCRIPTION:June 14\nSwingout Richmond Live Band Night\n3551 Moncton Street\n7pm-10:30pm\nLive music by The Fraser Valley Stompers. Enjoy an evening of music and dance in the heart of Steveston! No dance or music experience required\, join the Beginner workshop\, and come for a good time! All ages are welcome.\nWebsite: https://www.swingoutrichmond.ca/events
URL:https://richmondartscoalition.com/event/swingout-richmond-live-band-night-3/
LOCATION:The HUB\, 201-3800 Bayview Street\, Richmond\, British Columbia\, Canada
CATEGORIES:Dance,Interactive Activity
END:VEVENT
BEGIN:VEVENT
DTSTART;TZID=America/Vancouver:20250625T190000
DTEND;TZID=America/Vancouver:20250625T203000
DTSTAMP:20260425T105847
CREATED:20250619T215606Z
LAST-MODIFIED:20250619T215620Z
UID:32873-1750878000-1750883400@richmondartscoalition.com
SUMMARY:Artist Salon – Media Lab Open House for Artists
DESCRIPTION:June 25\, 7pm\nArtist Salon – Media Lab Open House for Artists\nRichmond Media Lab\nRichmond Cultural Centre Annex\n7660 Minoru Gate\nRescheduled from March 2025\, this is an open house for artists to learn about what equipment and workshops are available for artists in Richmond’s Media Lab. My colleague Melanie Devoy will be leading us and answering your queries on all digital\, audio & video equipment available for use\, including 3D printing\, iPad tools & apps\, video editing suite\, and more.  Melanie creates all the workshops for adults\, so this is the time to suggest some things you would like to learn or practice! NOTE – this session has limited space and is OVERSOLD due to the large number of ‘no-shows’ at our free events. Arrive on time to ensure a seat. We will try our best to accommodate everyone.\nWaitlist Signup: https://www.eventbrite.ca/e/artist-salon-richmond-media-lab-open-house-for-artists-tickets-1301179415659
URL:https://richmondartscoalition.com/event/artist-salon-media-lab-open-house-for-artists/
LOCATION:Richmond Cultural Centre Annex\, 7660 Minoru Gate\, Richmond\, BC\, V6Y 1R8\, Canada
CATEGORIES:Artist Salon or Author Event,Digital Media,Interactive Activity
END:VEVENT
BEGIN:VEVENT
DTSTART;TZID=America/Vancouver:20250628T110000
DTEND;TZID=America/Vancouver:20250628T150000
DTSTAMP:20260425T105847
CREATED:20250611T092241Z
LAST-MODIFIED:20250611T092241Z
UID:32815-1751108400-1751122800@richmondartscoalition.com
SUMMARY:Colours of the Land – The Art of Indigenous Wool Dyeing
DESCRIPTION:June 28\nColours of the Land – The Art of Indigenous Wool Dyeing\nRichmond Nature Park\n11851 Westminster Highway\n11am-3pm\nVisit the Richmond Nature Park as Musqueam artist Rita Kompst-Point displays her beautifully dyed wool\, created using natural dyes from mushrooms\, lichens\, goldenrod\, Oregon grape\, Salal and more. Learn about the dyeing process\, showcasing the traditional techniques used to achieve vibrant colours. This is a unique opportunity to experience Indigenous artistry and learn about the cultural significance of natural dyes. This program is for all ages. No registration required.\nWebsite: https://richmond.ca/culture/calendar/special-events/nationalindigenouspeoplesday.htm
URL:https://richmondartscoalition.com/event/colours-of-the-land-the-art-of-indigenous-wool-dyeing/
LOCATION:Richmond Nature Park\, 11851 Westminster Highway\, Richmond\, British Columbia\, V6X 1B4\, Canada
CATEGORIES:Artist Salon or Author Event,Interactive Activity
END:VEVENT
END:VCALENDAR