BEGIN:VCALENDAR
VERSION:2.0
PRODID:-//Richmond Arts Coalition - ECPv6.15.18//NONSGML v1.0//EN
CALSCALE:GREGORIAN
METHOD:PUBLISH
X-ORIGINAL-URL:https://richmondartscoalition.com
X-WR-CALDESC:Events for Richmond Arts Coalition
REFRESH-INTERVAL;VALUE=DURATION:PT1H
X-Robots-Tag:noindex
X-PUBLISHED-TTL:PT1H
BEGIN:VTIMEZONE
TZID:America/Vancouver
BEGIN:DAYLIGHT
TZOFFSETFROM:-0800
TZOFFSETTO:-0700
TZNAME:PDT
DTSTART:20240310T100000
END:DAYLIGHT
BEGIN:STANDARD
TZOFFSETFROM:-0700
TZOFFSETTO:-0800
TZNAME:PST
DTSTART:20241103T090000
END:STANDARD
BEGIN:DAYLIGHT
TZOFFSETFROM:-0800
TZOFFSETTO:-0700
TZNAME:PDT
DTSTART:20250309T100000
END:DAYLIGHT
BEGIN:STANDARD
TZOFFSETFROM:-0700
TZOFFSETTO:-0800
TZNAME:PST
DTSTART:20251102T090000
END:STANDARD
BEGIN:DAYLIGHT
TZOFFSETFROM:-0800
TZOFFSETTO:-0700
TZNAME:PDT
DTSTART:20260308T100000
END:DAYLIGHT
BEGIN:STANDARD
TZOFFSETFROM:-0700
TZOFFSETTO:-0800
TZNAME:PST
DTSTART:20261101T090000
END:STANDARD
END:VTIMEZONE
BEGIN:VEVENT
DTSTART;VALUE=DATE:20250728
DTEND;VALUE=DATE:20250804
DTSTAMP:20260425T075828
CREATED:20250707T225019Z
LAST-MODIFIED:20250707T225129Z
UID:33139-1753660800-1754265599@richmondartscoalition.com
SUMMARY:Celebrate Pride Week in Richmond
DESCRIPTION:  \n \nJuly 28 – August 3\nCelebrate Pride Week in Richmond\nPride Week in Richmond is a celebration of 2SLGBTQI+ communities in our city\, with events presented by the City of Richmond in partnership with Community Associations and Societies\, and the Richmond Public Library. This year’s theme\, “Pride Lives Here\,” anchors Pride in the Richmond community and affirms that 2SLGBTQI+ communities belong here.\nMore Info: https://richmond.ca/culture/calendar/special-events/pride.htm
URL:https://richmondartscoalition.com/event/celebrate-pride-week-in-richmond/
LOCATION:British Columbia
CATEGORIES:Art Exhibition,Artist Salon or Author Event,Interactive Activity,Performance
END:VEVENT
BEGIN:VEVENT
DTSTART;TZID=America/Vancouver:20250807T183000
DTEND;TZID=America/Vancouver:20250807T203000
DTSTAMP:20260425T075828
CREATED:20250719T023630Z
LAST-MODIFIED:20250719T023630Z
UID:33296-1754591400-1754598600@richmondartscoalition.com
SUMMARY:RAG Collage Club: August Session
DESCRIPTION:August 7\nRAG Collage Club: August Session\nRichmond Art Gallery\n7700 Minoru Gate\n6:30pm-8:30pm\nCreative Prompt : DREAMS. Get together with friends to make some art at our social Collage Club for adults! This month’s art-making prompt explores DREAMS\, inspired by the current exhibition at the gallery\, Enigmas & Dreams: Works on paper by Alvin Jang & Anna Wong.\nWebsite: https://www.richmondartgallery.org/collage-club-august
URL:https://richmondartscoalition.com/event/rag-collage-club-august-session/
LOCATION:Richmond Art Gallery\, 7700 Minoru Gate\, Richmond\, BC\, V6Y 1R8\, Canada
CATEGORIES:Interactive Activity
END:VEVENT
BEGIN:VEVENT
DTSTART;TZID=America/Vancouver:20250809T103000
DTEND;TZID=America/Vancouver:20250809T120000
DTSTAMP:20260425T075828
CREATED:20250716T233550Z
LAST-MODIFIED:20250716T233550Z
UID:33243-1754735400-1754740800@richmondartscoalition.com
SUMMARY:Capstan Village Public Art Walking Tour – Carmen Levy-Milne
DESCRIPTION:August 9\nCapstan Village Public Art Walking Tour – Carmen Levy-Milne\nCapstan Skytrain Station\n10:30am-12pm\nExplore public art in Capstan Village. Learn more about the artworks and the artists who created them on guided walking tours led by local arts professionals. Carmen Levy-Milne (she/her) is a curator and cultural worker born and raised on the unceded land of the xʷməθkwəy̓əm people. As a diasporic Jewish settler\, her practice is primarily concerned with the Jewish philosophy of tikkun olam (“the repair of the world”)\, where she sees her work in the arts sphere as responsible for uplifting reparative\, decolonial\, and critical artistic responses to broader social\, political\, and cultural circumstances. She holds an MA in Critical & Curatorial Studies from UBC and a BA in Communication and Cultural Studies with a Minor in Religion and Cultures from Concordia University.\nWebsite: https://www.eventbrite.com/e/capstan-village-public-art-walking-tour-carmen-levy-milne-tickets-1291901765959
URL:https://richmondartscoalition.com/event/capstan-village-public-art-walking-tour-carmen-levy-milne/
LOCATION:Capstan Canada Line Station
CATEGORIES:Art Exhibition,Artist Salon or Author Event,Interactive Activity
END:VEVENT
BEGIN:VEVENT
DTSTART;TZID=America/Vancouver:20250809T130000
DTEND;TZID=America/Vancouver:20250809T160000
DTSTAMP:20260425T075828
CREATED:20250619T233808Z
LAST-MODIFIED:20250619T233808Z
UID:33001-1754744400-1754755200@richmondartscoalition.com
SUMMARY:Steveston Alive! Walking Tour Vignettes
DESCRIPTION:July 5\, July 12\, July 19\, July 26\, August 9\, August 16\nSteveston Alive! Walking Tour Vignettes\nSteveston Museum and Post Office\n3811 Moncton Street\n1pm and 3pm\nStep back in time this summer in Steveston! Join us for Steveston Alive! Walking Tour Vignettes – a unique theatre-meets-history experience where costumed interpreters bring the past to life right on the streets of Steveston Village. Presented by the Steveston Historical Society. Walk the boardwalks\, meet characters from the early 1900s\, and see history come alive before your eyes.\nWebsite: https://historicsteveston.ca/step-back-in-time-this-summer-walking-tour-vignettes-dates-announced-for-2025-summer-season/\nTickets: https://www.eventbrite.ca/e/steveston-alive-walking-tour-vignettes-tickets-652363977217
URL:https://richmondartscoalition.com/event/steveston-alive-walking-tour-vignettes-2-2-2-2/
LOCATION:Steveston Museum\, 3811 Moncton Street\, Richmond\, BC\, Canada
CATEGORIES:Interactive Activity,Performance,Play
END:VEVENT
BEGIN:VEVENT
DTSTART;TZID=America/Vancouver:20250810T100000
DTEND;TZID=America/Vancouver:20250810T160000
DTSTAMP:20260425T075828
CREATED:20250719T030201Z
LAST-MODIFIED:20250719T030201Z
UID:33315-1754820000-1754841600@richmondartscoalition.com
SUMMARY:London Family Farm Day
DESCRIPTION:August 10\nLondon Family Farm Day\n6511 Dyke Road\n10am-4pm\nA Family oriented event open to the public\, featuring pony rides\, games\, animals on display. crafts\, face painting\, woodworking crafts\, music and entertainment. The event is geared towards families with young children.\nWebsite: https://www.londonfarm.ca/
URL:https://richmondartscoalition.com/event/london-family-farm-day/
LOCATION:London Farm\, 6511 Dyke Road\, Richmond\, BC\, Canada
CATEGORIES:Auction, Craft Fair or Farmers Market,Interactive Activity
END:VEVENT
BEGIN:VEVENT
DTSTART;TZID=America/Vancouver:20250815T173000
DTEND;TZID=America/Vancouver:20250815T193000
DTSTAMP:20260425T075828
CREATED:20250719T035158Z
LAST-MODIFIED:20250719T035158Z
UID:33319-1755279000-1755286200@richmondartscoalition.com
SUMMARY:Cambie Community Carnival
DESCRIPTION:August 15\nCambie Community Carnival\nCambie Community Centre\n12800 Cambie Road\n5:30pm-7:30pm\nJoin Cambie Community Centre for our end-of-summer Carnival\, including outdoor games\, crafts\, entertainment and inflatables. Rock’N’Beau will be joining us as our host with music and dance games.\nWebsite: https://www.instagram.com/cambiecc/
URL:https://richmondartscoalition.com/event/cambie-community-carnival/
LOCATION:Cambie Community Centre\, 12800 Cambie Road\, Richmond\, British Columbia\, V6V 0A9\, Canada
CATEGORIES:Interactive Activity
END:VEVENT
BEGIN:VEVENT
DTSTART;TZID=America/Vancouver:20250816T100000
DTEND;TZID=America/Vancouver:20250816T150000
DTSTAMP:20260425T075828
CREATED:20250719T025813Z
LAST-MODIFIED:20250719T025813Z
UID:33312-1755338400-1755356400@richmondartscoalition.com
SUMMARY:15th Richmond GarlicFest
DESCRIPTION:August 16\n15th Richmond GarlicFest\nSharing Farm (Terra Nova Rural Park)\n2631 Westminster Hwy\n10am-3pm\nCulinary Fare. Fresh Local Garlic. Farmers Market. Bird of Prey Live Demos. Family Fun. Highlights for festival goers include live birds-of-prey flying demonstrations\, a celebrated children’s area\, a diverse farmer’s market\, food trucks with garlic specials\, and live entertainment. Don’t miss the excitement. Once a year and one day only!\nWebsite: https://www.sharingfarm.ca/garlicfest
URL:https://richmondartscoalition.com/event/15th-richmond-garlicfest/
LOCATION:Richmond Sharing Farm\, 2771 Westminster Highway\, Richmond\, BC\, Canada
CATEGORIES:Auction, Craft Fair or Farmers Market,Concert,Interactive Activity,Performance
END:VEVENT
BEGIN:VEVENT
DTSTART;TZID=America/Vancouver:20250816T130000
DTEND;TZID=America/Vancouver:20250816T160000
DTSTAMP:20260425T075828
CREATED:20250707T225702Z
LAST-MODIFIED:20250707T225702Z
UID:33003-1755349200-1755360000@richmondartscoalition.com
SUMMARY:Steveston Alive! Walking Tour Vignettes
DESCRIPTION:July 5\, July 12\, July 19\, July 26\, August 9\, August 16\nSteveston Alive! Walking Tour Vignettes\nSteveston Museum and Post Office\n3811 Moncton Street\n1pm and 3pm\nStep back in time this summer in Steveston! Join us for Steveston Alive! Walking Tour Vignettes – a unique theatre-meets-history experience where costumed interpreters bring the past to life right on the streets of Steveston Village. Presented by the Steveston Historical Society. Walk the boardwalks\, meet characters from the early 1900s\, and see history come alive before your eyes.\nWebsite: https://historicsteveston.ca/step-back-in-time-this-summer-walking-tour-vignettes-dates-announced-for-2025-summer-season/\nTickets: https://www.eventbrite.ca/e/steveston-alive-walking-tour-vignettes-tickets-652363977217
URL:https://richmondartscoalition.com/event/steveston-alive-walking-tour-vignettes-2-2-2-2-2/
LOCATION:Steveston Museum\, 3811 Moncton Street\, Richmond\, BC\, Canada
CATEGORIES:Interactive Activity,Performance,Play
END:VEVENT
BEGIN:VEVENT
DTSTART;VALUE=DATE:20250823
DTEND;VALUE=DATE:20250825
DTSTAMP:20260425T075828
CREATED:20250719T012941Z
LAST-MODIFIED:20250719T012941Z
UID:33279-1755907200-1756079999@richmondartscoalition.com
SUMMARY:22nd Annual Richmond Maritime Festival
DESCRIPTION:August 23 – August 24\n22nd Annual Richmond Maritime Festival\nBritannia Shipyards National Historic Site\n5180 Westwater Drive\n11am-6pm\nCelebrate our city’s diverse nautical history at the 22nd Annual Richmond Maritime Festival! Enjoy a vibrant program of free live music\, maritime-themed kids activities\, a display of beautifully restored wooden boats and ships\, and much more.\nWebsite: richmondmaritimefestival.ca
URL:https://richmondartscoalition.com/event/22nd-annual-richmond-maritime-festival/
LOCATION:Britannia Shipyards\, 5180 Westwater Drive\, Richmond\, British Columbia\, V7E 6P3\, Canada
CATEGORIES:Art Exhibition,Concert,Dance,Interactive Activity,Performance,Photo Exhibition,Play
END:VEVENT
BEGIN:VEVENT
DTSTART;TZID=America/Vancouver:20250829T110000
DTEND;TZID=America/Vancouver:20250829T180000
DTSTAMP:20260425T075828
CREATED:20250822T231454Z
LAST-MODIFIED:20250822T231454Z
UID:33704-1756465200-1756490400@richmondartscoalition.com
SUMMARY:Anti-Racism Through Art – A celebration of unity and culture
DESCRIPTION:August 29\nAnti-Racism Through Art – A celebration of unity and culture\nRichmond Cultural Centre – Library\n7700 Minoru Gate\n11am-6pm\nProduced by Richmond Multicultural Community Services. Join us for an all-day art exhibition and celebration centered on anti-racism\, cultural expression\, and community building. This event highlights the transformative power of art in addressing racism and amplifying voices of resistance\, unity\, and identity. Use the QR code to register! There will be live poetry\, artist talks & community connection. Come explore and engage!\nWebsite: https://www.instagram.com/p/DNlviwdycBj/
URL:https://richmondartscoalition.com/event/anti-racism-through-art-a-celebration-of-unity-and-culture/
LOCATION:Brighouse Library\, 100-7700 Minoru Gate\, Richmond\, British Columbia\, V6Y 1R8\, Canada
CATEGORIES:Artist Salon or Author Event,Interactive Activity
END:VEVENT
END:VCALENDAR