BEGIN:VCALENDAR
VERSION:2.0
PRODID:-//Richmond Arts Coalition - ECPv6.15.18//NONSGML v1.0//EN
CALSCALE:GREGORIAN
METHOD:PUBLISH
X-ORIGINAL-URL:https://richmondartscoalition.com
X-WR-CALDESC:Events for Richmond Arts Coalition
REFRESH-INTERVAL;VALUE=DURATION:PT1H
X-Robots-Tag:noindex
X-PUBLISHED-TTL:PT1H
BEGIN:VTIMEZONE
TZID:America/Vancouver
BEGIN:DAYLIGHT
TZOFFSETFROM:-0800
TZOFFSETTO:-0700
TZNAME:PDT
DTSTART:20230312T100000
END:DAYLIGHT
BEGIN:STANDARD
TZOFFSETFROM:-0700
TZOFFSETTO:-0800
TZNAME:PST
DTSTART:20231105T090000
END:STANDARD
BEGIN:DAYLIGHT
TZOFFSETFROM:-0800
TZOFFSETTO:-0700
TZNAME:PDT
DTSTART:20240310T100000
END:DAYLIGHT
BEGIN:STANDARD
TZOFFSETFROM:-0700
TZOFFSETTO:-0800
TZNAME:PST
DTSTART:20241103T090000
END:STANDARD
BEGIN:DAYLIGHT
TZOFFSETFROM:-0800
TZOFFSETTO:-0700
TZNAME:PDT
DTSTART:20250309T100000
END:DAYLIGHT
BEGIN:STANDARD
TZOFFSETFROM:-0700
TZOFFSETTO:-0800
TZNAME:PST
DTSTART:20251102T090000
END:STANDARD
END:VTIMEZONE
BEGIN:VEVENT
DTSTART;VALUE=DATE:20241103
DTEND;VALUE=DATE:20250101
DTSTAMP:20260425T211032
CREATED:20241120T013718Z
LAST-MODIFIED:20241120T013718Z
UID:31055-1730592000-1735689599@richmondartscoalition.com
SUMMARY:3rd Annual Islamic Art Exhibition: Community Art Walls
DESCRIPTION:Ongoing – December 31\n3rd Annual Islamic Art Exhibition: Community Art Walls\nRichmond Public Library – Brighouse Branch\n7700 Minoru Gate\nPart of a series of events focused on sharing the beauty of Islamic art from around the globe\, an exciting\, educational opportunity for people of all ages.\nWebsite: https://islamicartofbritishcolumbia.com/islamic-art-experience
URL:https://richmondartscoalition.com/event/3rd-annual-islamic-art-exhibition-community-art-walls/
LOCATION:Brighouse Library\, 100-7700 Minoru Gate\, Richmond\, British Columbia\, V6Y 1R8\, Canada
CATEGORIES:Art Exhibition,Interactive Activity
END:VEVENT
END:VCALENDAR