BEGIN:VCALENDAR
VERSION:2.0
PRODID:-//Richmond Arts Coalition - ECPv6.15.18//NONSGML v1.0//EN
CALSCALE:GREGORIAN
METHOD:PUBLISH
X-ORIGINAL-URL:https://richmondartscoalition.com
X-WR-CALDESC:Events for Richmond Arts Coalition
REFRESH-INTERVAL;VALUE=DURATION:PT1H
X-Robots-Tag:noindex
X-PUBLISHED-TTL:PT1H
BEGIN:VTIMEZONE
TZID:America/Vancouver
BEGIN:DAYLIGHT
TZOFFSETFROM:-0800
TZOFFSETTO:-0700
TZNAME:PDT
DTSTART:20240310T100000
END:DAYLIGHT
BEGIN:STANDARD
TZOFFSETFROM:-0700
TZOFFSETTO:-0800
TZNAME:PST
DTSTART:20241103T090000
END:STANDARD
BEGIN:DAYLIGHT
TZOFFSETFROM:-0800
TZOFFSETTO:-0700
TZNAME:PDT
DTSTART:20250309T100000
END:DAYLIGHT
BEGIN:STANDARD
TZOFFSETFROM:-0700
TZOFFSETTO:-0800
TZNAME:PST
DTSTART:20251102T090000
END:STANDARD
BEGIN:DAYLIGHT
TZOFFSETFROM:-0800
TZOFFSETTO:-0700
TZNAME:PDT
DTSTART:20260308T100000
END:DAYLIGHT
BEGIN:STANDARD
TZOFFSETFROM:-0700
TZOFFSETTO:-0800
TZNAME:PST
DTSTART:20261101T090000
END:STANDARD
END:VTIMEZONE
BEGIN:VEVENT
DTSTART;TZID=America/Vancouver:20250206T183000
DTEND;TZID=America/Vancouver:20250206T203000
DTSTAMP:20260425T194119
CREATED:20250121T230717Z
LAST-MODIFIED:20250121T230717Z
UID:31354-1738866600-1738873800@richmondartscoalition.com
SUMMARY:RAG Collage Club: Inaugural Session!
DESCRIPTION:February 6\nRAG Collage Club: Inaugural Session!\nRichmond Art Gallery\n7700 Minoru Gate\n6:30pm-8:30pm\nRichmond Art Gallery and the Richmond Media Lab host a monthly art-making social for adults. Get together with friends and make some art! Open studio time led by gallery staff for adult participants to cut and paste with a variety of materials and tools while you chat\, listen to music\, and sip some tea at our Collage Club social. Inspired by the Gallery’s exhibitions\, each month will feature a new theme to inspire our projects. We will also connect to international collage groups for you to share your collage works online\, and provide printed copies of upcoming challenges from the Paris Collage Collective\, Februllage\, World Collage Day\, and more. Register for $5\, which includes all art supplies and equipment usage.\nWebsite: https://www.richmondartgallery.org/cc-feb25
URL:https://richmondartscoalition.com/event/rag-collage-club-inaugural-session/
LOCATION:Richmond Art Gallery\, 7700 Minoru Gate\, Richmond\, BC\, V6Y 1R8\, Canada
CATEGORIES:Interactive Activity
END:VEVENT
END:VCALENDAR