BEGIN:VCALENDAR
VERSION:2.0
PRODID:-//Richmond Arts Coalition - ECPv6.15.18//NONSGML v1.0//EN
CALSCALE:GREGORIAN
METHOD:PUBLISH
X-WR-CALNAME:Richmond Arts Coalition
X-ORIGINAL-URL:https://richmondartscoalition.com
X-WR-CALDESC:Events for Richmond Arts Coalition
REFRESH-INTERVAL;VALUE=DURATION:PT1H
X-Robots-Tag:noindex
X-PUBLISHED-TTL:PT1H
BEGIN:VTIMEZONE
TZID:America/Vancouver
BEGIN:DAYLIGHT
TZOFFSETFROM:-0800
TZOFFSETTO:-0700
TZNAME:PDT
DTSTART:20240310T100000
END:DAYLIGHT
BEGIN:STANDARD
TZOFFSETFROM:-0700
TZOFFSETTO:-0800
TZNAME:PST
DTSTART:20241103T090000
END:STANDARD
BEGIN:DAYLIGHT
TZOFFSETFROM:-0800
TZOFFSETTO:-0700
TZNAME:PDT
DTSTART:20250309T100000
END:DAYLIGHT
BEGIN:STANDARD
TZOFFSETFROM:-0700
TZOFFSETTO:-0800
TZNAME:PST
DTSTART:20251102T090000
END:STANDARD
BEGIN:DAYLIGHT
TZOFFSETFROM:-0800
TZOFFSETTO:-0700
TZNAME:PDT
DTSTART:20260308T100000
END:DAYLIGHT
BEGIN:STANDARD
TZOFFSETFROM:-0700
TZOFFSETTO:-0800
TZNAME:PST
DTSTART:20261101T090000
END:STANDARD
END:VTIMEZONE
BEGIN:VEVENT
DTSTART;TZID=America/Vancouver:20250913T130000
DTEND;TZID=America/Vancouver:20250913T143000
DTSTAMP:20260425T080701
CREATED:20250716T233755Z
LAST-MODIFIED:20250716T233755Z
UID:33246-1757768400-1757773800@richmondartscoalition.com
SUMMARY:Capstan Village Public Art Walking Tour (Mandarin) – Rebecca Wang | 國語導覽
DESCRIPTION:September 13\nCapstan Village Public Art Walking Tour (Mandarin) – Rebecca Wang | 國語導覽\nCapstan Skytrain Station\n1pm-2:30pm\nThis tour will be presented in Mandarin. Rebecca Wang 王晨釔 is a curator and artist working between her hometown of Hangzhou\, China\, and Vancouver\, Canada. Her curatorial interests span mythology\, folklore\, the everyday\, and diasporic experiences. Her multidisciplinary practice navigates personal confusions in life\, often stemming from the absurdity engrained in capitalist consumer culture. As the Curatorial Assistant at Richmond Art Gallery since 2022\, she has been curating exhibitions at Richmond City Hall Galleria and The Annex Gallery\, as well as leading Mandarin tours of the main gallery.\nWebsite: https://www.eventbrite.com/e/capstan-village-public-art-walking-tour-rebecca-wang-tickets-1291904905349
URL:https://richmondartscoalition.com/event/capstan-village-public-art-walking-tour-mandarin-rebecca-wang-%e5%9c%8b%e8%aa%9e%e5%b0%8e%e8%a6%bd/
LOCATION:Capstan Canada Line Station
CATEGORIES:Art Exhibition,Artist Salon or Author Event,Interactive Activity
END:VEVENT
END:VCALENDAR