BEGIN:VCALENDAR
VERSION:2.0
PRODID:-//Richmond Arts Coalition - ECPv6.15.18//NONSGML v1.0//EN
CALSCALE:GREGORIAN
METHOD:PUBLISH
X-ORIGINAL-URL:https://richmondartscoalition.com
X-WR-CALDESC:Events for Richmond Arts Coalition
REFRESH-INTERVAL;VALUE=DURATION:PT1H
X-Robots-Tag:noindex
X-PUBLISHED-TTL:PT1H
BEGIN:VTIMEZONE
TZID:America/Vancouver
BEGIN:DAYLIGHT
TZOFFSETFROM:-0800
TZOFFSETTO:-0700
TZNAME:PDT
DTSTART:20240310T100000
END:DAYLIGHT
BEGIN:STANDARD
TZOFFSETFROM:-0700
TZOFFSETTO:-0800
TZNAME:PST
DTSTART:20241103T090000
END:STANDARD
BEGIN:DAYLIGHT
TZOFFSETFROM:-0800
TZOFFSETTO:-0700
TZNAME:PDT
DTSTART:20250309T100000
END:DAYLIGHT
BEGIN:STANDARD
TZOFFSETFROM:-0700
TZOFFSETTO:-0800
TZNAME:PST
DTSTART:20251102T090000
END:STANDARD
BEGIN:DAYLIGHT
TZOFFSETFROM:-0800
TZOFFSETTO:-0700
TZNAME:PDT
DTSTART:20260308T100000
END:DAYLIGHT
BEGIN:STANDARD
TZOFFSETFROM:-0700
TZOFFSETTO:-0800
TZNAME:PST
DTSTART:20261101T090000
END:STANDARD
END:VTIMEZONE
BEGIN:VEVENT
DTSTART;VALUE=DATE:20250919
DTEND;VALUE=DATE:20251013
DTSTAMP:20260425T080217
CREATED:20250822T211013Z
LAST-MODIFIED:20250822T211013Z
UID:33643-1758240000-1760313599@richmondartscoalition.com
SUMMARY:Culture Days
DESCRIPTION:September 19 – October 12\nCulture Days\nCelebrated nationally and experienced locally\, Culture Days highlights the talents of artists\, cultural producers\, dancers\, designers\, makers\, musicians\, performers\, photographers\, writers and others who open their creative spaces to the public or present free\, participatory activities and experiences. Richmond’s artists and cultural organizations will offer free or pay-what-you-may experiences such as hands-on workshops\, creative placemaking activities\, behind-the-scenes tours\, open studio events\, information sessions and demonstrations\, event organizers are increasing awareness\, pride and participation in the arts and activating public spaces through\, and for\, the arts.\nThe Richmond Arts Coalition will be presenting a youth art exhibition with an interactive element outside of our Cornerspace in the Richmond Cultural Centre Annex (7660 Minoru Gate)\, a result of youth art workshops conducted in partnership with School District 38.\nCity of Richmond listings: https://www.richmond.ca/culture/calendar/special-events/culturedays.htm\nCulture Days website: https://culturedays.ca/en/events
URL:https://richmondartscoalition.com/event/culture-days/
LOCATION:British Columbia
CATEGORIES:Art Exhibition,Artist Salon or Author Event,Auction, Craft Fair or Farmers Market,Concert,Dance,Digital Media,Film Screening,Interactive Activity,Performance,Photo Exhibition,Play
END:VEVENT
BEGIN:VEVENT
DTSTART;VALUE=DATE:20250920
DTEND;VALUE=DATE:20250921
DTSTAMP:20260425T080217
CREATED:20250822T232559Z
LAST-MODIFIED:20250822T232559Z
UID:33719-1758326400-1758412799@richmondartscoalition.com
SUMMARY:Playing Fields: A Culture Days Event
DESCRIPTION:September 20\nPlaying Fields: A Culture Days Event\nGateway Theatre – Minoru Field 2\n6500 Gilbert Road\nPresented by The Chop Theatre and Gateway Theatre. Ever wonder what goes on inside a teenager’s head? Playing Fields is a one-of-a-kind\, youth-driven interactive performance that invites you to see the world through the eyes of teenagers. With the provided headsets\, you’ll be listening to heartfelt and powerful stories about hopes\, fears\, and belonging from teenage voices across the world. With simple interactive movements woven in\, you’ll suddenly realize the field has come alive and you’ve found your place in something greater than yourself. If mobility is a concern\, benches are available for you to sit on while listening to the audio and watching the magic unfold on the field for an equally captivating experience.\nWebsite: https://www.gatewaytheatre.com/events/playing-fields/
URL:https://richmondartscoalition.com/event/playing-fields-a-culture-days-event/
LOCATION:Gateway Theatre\, 6500 Gilbert Road\, Richmond\, BC\, V7C 3V4\, Canada
CATEGORIES:Interactive Activity,Performance
END:VEVENT
END:VCALENDAR