BEGIN:VCALENDAR
VERSION:2.0
PRODID:-//Richmond Arts Coalition - ECPv6.15.18//NONSGML v1.0//EN
CALSCALE:GREGORIAN
METHOD:PUBLISH
X-WR-CALNAME:Richmond Arts Coalition
X-ORIGINAL-URL:https://richmondartscoalition.com
X-WR-CALDESC:Events for Richmond Arts Coalition
REFRESH-INTERVAL;VALUE=DURATION:PT1H
X-Robots-Tag:noindex
X-PUBLISHED-TTL:PT1H
BEGIN:VTIMEZONE
TZID:America/Vancouver
BEGIN:DAYLIGHT
TZOFFSETFROM:-0800
TZOFFSETTO:-0700
TZNAME:PDT
DTSTART:20240310T100000
END:DAYLIGHT
BEGIN:STANDARD
TZOFFSETFROM:-0700
TZOFFSETTO:-0800
TZNAME:PST
DTSTART:20241103T090000
END:STANDARD
BEGIN:DAYLIGHT
TZOFFSETFROM:-0800
TZOFFSETTO:-0700
TZNAME:PDT
DTSTART:20250309T100000
END:DAYLIGHT
BEGIN:STANDARD
TZOFFSETFROM:-0700
TZOFFSETTO:-0800
TZNAME:PST
DTSTART:20251102T090000
END:STANDARD
BEGIN:DAYLIGHT
TZOFFSETFROM:-0800
TZOFFSETTO:-0700
TZNAME:PDT
DTSTART:20260308T100000
END:DAYLIGHT
BEGIN:STANDARD
TZOFFSETFROM:-0700
TZOFFSETTO:-0800
TZNAME:PST
DTSTART:20261101T090000
END:STANDARD
END:VTIMEZONE
BEGIN:VEVENT
DTSTART;TZID=America/Vancouver:20251101T180000
DTEND;TZID=America/Vancouver:20251101T210000
DTSTAMP:20260425T044622
CREATED:20251007T033341Z
LAST-MODIFIED:20251007T033341Z
UID:34759-1762020000-1762030800@richmondartscoalition.com
SUMMARY:An Autumn Evening in Richmond｜列治文深秋之夜
DESCRIPTION:November 1\, 6pm-9pm\nAn Autumn Evening in Richmond｜列治文深秋之夜\nRed Star Seafood Restaurant\n8181 Cambie Road\nAn Autumn Evening in Richmond is a festive banquet and fundraiser in support of the Richmond Art Gallery. Celebrate another impactful year of exhibitions\, education\, and outreach with a delicious five-course Chinese banquet at the acclaimed Red Star Seafood Restaurant (Richmond). Tickets: $100\, with a $40 tax receipt.\nFull Information: https://www.richmondartgallery.org/autumn
URL:https://richmondartscoalition.com/event/an-autumn-evening-in-richmond%ef%bd%9c%e5%88%97%e6%b2%bb%e6%96%87%e6%b7%b1%e7%a7%8b%e4%b9%8b%e5%a4%9c/
LOCATION:Red Star Seafood Restaurant\, 8181 Cambie Road\, BC\, Canada
CATEGORIES:Auction, Craft Fair or Farmers Market,Interactive Activity
END:VEVENT
END:VCALENDAR