BEGIN:VCALENDAR
VERSION:2.0
PRODID:-//Richmond Arts Coalition - ECPv6.15.18//NONSGML v1.0//EN
CALSCALE:GREGORIAN
METHOD:PUBLISH
X-WR-CALNAME:Richmond Arts Coalition
X-ORIGINAL-URL:https://richmondartscoalition.com
X-WR-CALDESC:Events for Richmond Arts Coalition
REFRESH-INTERVAL;VALUE=DURATION:PT1H
X-Robots-Tag:noindex
X-PUBLISHED-TTL:PT1H
BEGIN:VTIMEZONE
TZID:America/Vancouver
BEGIN:DAYLIGHT
TZOFFSETFROM:-0800
TZOFFSETTO:-0700
TZNAME:PDT
DTSTART:20240310T100000
END:DAYLIGHT
BEGIN:STANDARD
TZOFFSETFROM:-0700
TZOFFSETTO:-0800
TZNAME:PST
DTSTART:20241103T090000
END:STANDARD
BEGIN:DAYLIGHT
TZOFFSETFROM:-0800
TZOFFSETTO:-0700
TZNAME:PDT
DTSTART:20250309T100000
END:DAYLIGHT
BEGIN:STANDARD
TZOFFSETFROM:-0700
TZOFFSETTO:-0800
TZNAME:PST
DTSTART:20251102T090000
END:STANDARD
BEGIN:DAYLIGHT
TZOFFSETFROM:-0800
TZOFFSETTO:-0700
TZNAME:PDT
DTSTART:20260308T100000
END:DAYLIGHT
BEGIN:STANDARD
TZOFFSETFROM:-0700
TZOFFSETTO:-0800
TZNAME:PST
DTSTART:20261101T090000
END:STANDARD
END:VTIMEZONE
BEGIN:VEVENT
DTSTART;TZID=America/Vancouver:20251106T183000
DTEND;TZID=America/Vancouver:20251106T203000
DTSTAMP:20260425T044622
CREATED:20251019T225758Z
LAST-MODIFIED:20251019T225758Z
UID:34868-1762453800-1762461000@richmondartscoalition.com
SUMMARY:RAC Collage Club: November Session
DESCRIPTION:November 6\, 6:30pm-8:30pm\nRAC Collage Club: November Session\nRichmond Art Gallery\n7700 Minoru Gate\n$5 per person includes all art supplies and use of our equipment. Get together with friends and fellow creatives at our social Collage Club for Adults—a relaxed\, art-making evening where imagination and conversation meet. This month’s prompt is LAND\, inspired by our current exhibition. Try out different cut-and-paste collage techniques to explore land as identity\, memory\, nature\, and connection — or dream up imagined landscapes to create your own miniature worlds in collage. We will provide a wide variety of paper ephemera and natural materials to spark your creativity\, plus a curated playlist full of tunes about land\, nature\, and place to set the vibe.\nWebsite: https://www.richmondartgallery.org/rag-collage-club-november-session
URL:https://richmondartscoalition.com/event/rac-collage-club-november-session/
LOCATION:Richmond Art Gallery\, 7700 Minoru Gate\, Richmond\, BC\, V6Y 1R8\, Canada
CATEGORIES:Art Exhibition,Interactive Activity
END:VEVENT
END:VCALENDAR