BEGIN:VCALENDAR
VERSION:2.0
PRODID:-//Richmond Arts Coalition - ECPv6.15.18//NONSGML v1.0//EN
CALSCALE:GREGORIAN
METHOD:PUBLISH
X-ORIGINAL-URL:https://richmondartscoalition.com
X-WR-CALDESC:Events for Richmond Arts Coalition
REFRESH-INTERVAL;VALUE=DURATION:PT1H
X-Robots-Tag:noindex
X-PUBLISHED-TTL:PT1H
BEGIN:VTIMEZONE
TZID:America/Vancouver
BEGIN:DAYLIGHT
TZOFFSETFROM:-0800
TZOFFSETTO:-0700
TZNAME:PDT
DTSTART:20240310T100000
END:DAYLIGHT
BEGIN:STANDARD
TZOFFSETFROM:-0700
TZOFFSETTO:-0800
TZNAME:PST
DTSTART:20241103T090000
END:STANDARD
BEGIN:DAYLIGHT
TZOFFSETFROM:-0800
TZOFFSETTO:-0700
TZNAME:PDT
DTSTART:20250309T100000
END:DAYLIGHT
BEGIN:STANDARD
TZOFFSETFROM:-0700
TZOFFSETTO:-0800
TZNAME:PST
DTSTART:20251102T090000
END:STANDARD
BEGIN:DAYLIGHT
TZOFFSETFROM:-0800
TZOFFSETTO:-0700
TZNAME:PDT
DTSTART:20260308T100000
END:DAYLIGHT
BEGIN:STANDARD
TZOFFSETFROM:-0700
TZOFFSETTO:-0800
TZNAME:PST
DTSTART:20261101T090000
END:STANDARD
END:VTIMEZONE
BEGIN:VEVENT
DTSTART;TZID=America/Vancouver:20251206T110000
DTEND;TZID=America/Vancouver:20251206T150000
DTSTAMP:20260425T044809
CREATED:20251121T034911Z
LAST-MODIFIED:20251121T034911Z
UID:35220-1765018800-1765033200@richmondartscoalition.com
SUMMARY:Carols and Crafts at Aberdeen Park
DESCRIPTION:December 6\, 11am-3pm\nCarols and Crafts at Aberdeen Park\n8331 Cambie Road\nThis free special outdoor community event includes: Craft Fair. Shop from local vendors offering unique handmade goods including jewelry\, art\, and décor. Food Trucks. Enjoy delicious eats and warm beverages from thee featured food trucks. Live Performances. Experience incredible live entertainment throughout the day from: The Beauty Shop Dolls – a singing and dancing trio bringing vintage flair and holiday harmonies\, Estella Celeste – the pint-sized powerhouse with a big voice\, and Rachel Chiu – local star and viral sensation from Canada’s Got Talent.\nWebsite: https://www.richmond.ca/culture/calendar/special-events/carolscrafts.htm
URL:https://richmondartscoalition.com/event/carols-and-crafts-at-aberdeen-park-2/
LOCATION:Aberdeen Neighbourhood Park\, 8331 Cambie Road\, Richmond\, BC\, Canada
CATEGORIES:Auction, Craft Fair or Farmers Market,Concert,Interactive Activity,Performance
END:VEVENT
BEGIN:VEVENT
DTSTART;TZID=America/Vancouver:20251206T153000
DTEND;TZID=America/Vancouver:20251206T183000
DTSTAMP:20260425T044809
CREATED:20251121T024953Z
LAST-MODIFIED:20251204T232820Z
UID:35200-1765035000-1765045800@richmondartscoalition.com
SUMMARY:Songs in the Snow
DESCRIPTION:December 6\, 3:30pm-6:30pm\nSongs in the Snow\nTown Square Park Steveston Museum & Post Office\n3811 Moncton Street\nThe Steveston Historical Society\, together with the Richmond Arts Coalition\, presents Songs in the Snow. This free seasonal concert series brings Town Square Park to life with beautiful festive lights\, seasonal music provided by talented local artists\, school groups and community choirs as well as activities\, crafts and of course\, hot chocolate. Join us for this beloved family friendly event located in the heart of Steveston Village. This is a rain or shine event. \nPerformance Schedule and Artists: \nSaturday\, December 6th (3:30pm-6:30pm)\nJill Raymond\nSangre Morena Latin Music\nJason Qiu\nRichmond Orchestra & Chorus Association\nEstella Celeste Banez\nRicardo\nVisual Artist: Nadine Flagel\nVisual Artist: Cartoon Katie\nVisual Artist: The Art & Fungi Project \nWebsite: https://historicsteveston.ca/society-news/
URL:https://richmondartscoalition.com/event/songs-in-the-snow/
LOCATION:Steveston Town Square Park\, 3791 Moncton St\, Richmond\, BC\, V7E 3A7\, Canada
CATEGORIES:Art Exhibition,Concert,Interactive Activity,Performance
END:VEVENT
END:VCALENDAR