BEGIN:VCALENDAR
VERSION:2.0
PRODID:-//Richmond Arts Coalition - ECPv6.15.18//NONSGML v1.0//EN
CALSCALE:GREGORIAN
METHOD:PUBLISH
X-ORIGINAL-URL:https://richmondartscoalition.com
X-WR-CALDESC:Events for Richmond Arts Coalition
REFRESH-INTERVAL;VALUE=DURATION:PT1H
X-Robots-Tag:noindex
X-PUBLISHED-TTL:PT1H
BEGIN:VTIMEZONE
TZID:America/Vancouver
BEGIN:DAYLIGHT
TZOFFSETFROM:-0800
TZOFFSETTO:-0700
TZNAME:PDT
DTSTART:20250309T100000
END:DAYLIGHT
BEGIN:STANDARD
TZOFFSETFROM:-0700
TZOFFSETTO:-0800
TZNAME:PST
DTSTART:20251102T090000
END:STANDARD
BEGIN:DAYLIGHT
TZOFFSETFROM:-0800
TZOFFSETTO:-0700
TZNAME:PDT
DTSTART:20260308T100000
END:DAYLIGHT
BEGIN:STANDARD
TZOFFSETFROM:-0700
TZOFFSETTO:-0800
TZNAME:PST
DTSTART:20261101T090000
END:STANDARD
BEGIN:DAYLIGHT
TZOFFSETFROM:-0800
TZOFFSETTO:-0700
TZNAME:PDT
DTSTART:20270314T100000
END:DAYLIGHT
BEGIN:STANDARD
TZOFFSETFROM:-0700
TZOFFSETTO:-0800
TZNAME:PST
DTSTART:20271107T090000
END:STANDARD
END:VTIMEZONE
BEGIN:VEVENT
DTSTART;TZID=America/Vancouver:20260412T110000
DTEND;TZID=America/Vancouver:20260412T160000
DTSTAMP:20260425T075238
CREATED:20260320T112924Z
LAST-MODIFIED:20260320T112924Z
UID:35974-1775991600-1776009600@richmondartscoalition.com
SUMMARY:Richmond Cherry Blossom Festival
DESCRIPTION:April 12\, 11am-4pm\nRichmond Cherry Blossom Festival\nGarry Point Park\nA free community celebration of Japanese culture\, cherry blossoms and springtime renewal. This year’s theme is ありがとう (Arigatō)\, “thank you.” As the festival celebrates its 10th anniversary\, we honour the performers\, partners\, volunteers and community members who have helped the Richmond Cherry Blossom Festival grow and flourish over the past decade. Enjoy a full day of Japanese cultural experiences\, including: Traditional performances\, Delicious food options\, Hands-on activities for all ages\, and Family-friendly programming.\nWebsite: https://richmondcherryblossomfest.ca/
URL:https://richmondartscoalition.com/event/richmond-cherry-blossom-festival-3/
LOCATION:Garry Point Park\, 12011 Seventh Avenue\, Richmond\, British Columbia\, V7E 4X2\, Canada
CATEGORIES:Interactive Activity,Performance
END:VEVENT
BEGIN:VEVENT
DTSTART;TZID=America/Vancouver:20260425T180000
DTEND;TZID=America/Vancouver:20260425T200000
DTSTAMP:20260425T075238
CREATED:20260421T012601Z
LAST-MODIFIED:20260421T012601Z
UID:36242-1777140000-1777147200@richmondartscoalition.com
SUMMARY:Third Annual ROCA Pub Night (Richmond Orchestra and Chorus Association)
DESCRIPTION:April 25\, 6pm-8pm\nThird Annual ROCA Pub Night (Richmond Orchestra and Chorus Association)\nLegends Pub\n9031 Blundell Road\nWhat better way to support ROCA than with a fun social night with friends\, good food & drink\, live music\, trivia\, and prizes?! Please note that Legends Pub needs a headcount for food prep by Friday (April 24). If you would prefer to pay for your ticket at the door Saturday night – PLEASE let us know via email that you plan to attend no later than Friday.\nInformation and Ticket Link: https://www.roca.ca/fundraisers
URL:https://richmondartscoalition.com/event/third-annual-roca-pub-night-richmond-orchestra-and-chorus-association/
LOCATION:Legends Pub\, 9031 Blundell Road\, Richmond\, BC\, Canada
CATEGORIES:Artist Salon or Author Event,Concert,Interactive Activity,Performance
END:VEVENT
BEGIN:VEVENT
DTSTART;VALUE=DATE:20260502
DTEND;VALUE=DATE:20260504
DTSTAMP:20260425T075238
CREATED:20260421T005955Z
LAST-MODIFIED:20260421T031211Z
UID:36232-1777680000-1777852799@richmondartscoalition.com
SUMMARY:Ships to Shore
DESCRIPTION:May 2 – May 3\, 10am-6pm\nShips to Shore\nGarry Point Park\n12011 Seventh Ave\nSet sail for a one-of-a-kind waterfront experience at Ships to Shore\, coming to Steveston’s Garry Point Park. For a limited time\, the Kaiwo Maru\, one of the world’s largest and most iconic tall ships\, arrives in Richmond\, offering rare boarding opportunities alongside a vibrant festival of cultural performances\, food and family-friendly activities. With free admission and something for all ages\, it’s a can’t-miss spring event on the waterfront. (Ship boarding is $10.29 + GST per person).\n🎶 Live performances across three stages\, featuring headliners Cookin’ With Brass and Coco Project\n🍜 Food trucks and cultural offerings\n🛍 Maker’s Corner with artisan vendors\n🧒 Kids’ Cove with hands-on activities like traditional fish printing (Gyotaku)\, origami and woodcarving\n🪁 Sails in the Sky with colourful kite displays and koinobori-inspired crafts celebrating Children’s Day.\nWebsite: https://www.shipstoshore.ca/\nPerformance Schedules: https://www.shipstoshore.ca/schedule-activities
URL:https://richmondartscoalition.com/event/ships-to-shore/
LOCATION:Garry Point Park\, 12011 Seventh Avenue\, Richmond\, British Columbia\, V7E 4X2\, Canada
CATEGORIES:Concert,Dance,Interactive Activity,Performance
END:VEVENT
BEGIN:VEVENT
DTSTART;TZID=America/Vancouver:20260507T170000
DTEND;TZID=America/Vancouver:20260507T200000
DTSTAMP:20260425T075238
CREATED:20260421T044436Z
LAST-MODIFIED:20260421T044436Z
UID:36270-1778173200-1778184000@richmondartscoalition.com
SUMMARY:Art After Dark: Youth Week Takeover
DESCRIPTION:May 7\, 5pm-8pm\nArt After Dark: Youth Week Takeover\nRichmond Art Gallery & Richmond Museum\n7700 Minoru Gate\nPresented by City of Richmond’s Youth Services & Richmond Art Gallery. Celebrate BC Youth Week with a FREE after‑hours skate‑culture takeover\, exclusively for ages 13–24! Inspired by skate culture past and present\, this night is all about creativity\, community\, and self‑expression. You don’t need to be a skateboarder to take part. Explore skate‑inspired exhibitions\, experiment with various hands-on art activities\, meet local artists and skateboarders\, vibe to a live DJ\, and capture the night in our digital photo booth.\nWebsite: https://www.richmondartgallery.org/artafterdark-may26
URL:https://richmondartscoalition.com/event/art-after-dark-youth-week-takeover/
LOCATION:Richmond Art Gallery\, 7700 Minoru Gate\, Richmond\, BC\, V6Y 1R8\, Canada
CATEGORIES:Art Exhibition,Interactive Activity
END:VEVENT
BEGIN:VEVENT
DTSTART;TZID=America/Vancouver:20260509T130000
DTEND;TZID=America/Vancouver:20260509T160000
DTSTAMP:20260425T075238
CREATED:20260421T044243Z
LAST-MODIFIED:20260421T044243Z
UID:36268-1778331600-1778342400@richmondartscoalition.com
SUMMARY:World Collage Day: Printmaking and Collage with Kai Liu
DESCRIPTION:May 9\, 1pm-4pm\nWorld Collage Day: Printmaking and Collage with Kai Liu\nRichmond Art Gallery\n7700 Minoru Gate\nCelebrate World Collage Day with a relaxed and inspiring studio session designed for adults who want to explore creative play and collage‑based artmaking. Guided by Kai Liu\, the 2026 Branscombe House Artist in Residence\, participants will experiment with monotype print techniques to create textured and patterned papers to use in your own collage artwork. No experience needed\, just curiosity and a willingness to explore. $5.00 registration includes all collage materials and tools.\nWebsite: https://www.richmondartgallery.org/collageday26
URL:https://richmondartscoalition.com/event/world-collage-day-printmaking-and-collage-with-kai-liu/
LOCATION:Richmond Art Gallery\, 7700 Minoru Gate\, Richmond\, BC\, V6Y 1R8\, Canada
CATEGORIES:Interactive Activity
END:VEVENT
BEGIN:VEVENT
DTSTART;TZID=America/Vancouver:20260523T100000
DTEND;TZID=America/Vancouver:20260523T170000
DTSTAMP:20260425T075238
CREATED:20260421T041516Z
LAST-MODIFIED:20260421T041516Z
UID:36255-1779530400-1779555600@richmondartscoalition.com
SUMMARY:Vancouver Anime-Fest
DESCRIPTION:May 23\, 10am-5pm\nVancouver Anime-Fest\nExecutive Hotel Vancouver Airport\n7311 Westminster Hwy\nThe Vancouver Anime-Fest is the Anime collectors’ Mecca 1 day trade show convention. Striving to be the best and truest Anime convention featuring fandoms of multiple genres. As a long-time collector of Anime items the promoter brings you an event that will satisfy all Anime fandom!\nWebsite: http://canadaanimefests.ca/Vancouver/#5343196
URL:https://richmondartscoalition.com/event/vancouver-anime-fest/
LOCATION:Executive Hotel Vancouver Airport\, 7311 Westminster Hwy\, Richmond\, BC\, Canada
CATEGORIES:Artist Salon or Author Event,Auction, Craft Fair or Farmers Market,Interactive Activity
END:VEVENT
BEGIN:VEVENT
DTSTART;TZID=America/Vancouver:20260530T180000
DTEND;TZID=America/Vancouver:20260530T213000
DTSTAMP:20260425T075238
CREATED:20260421T041745Z
LAST-MODIFIED:20260421T041745Z
UID:36258-1780164000-1780176600@richmondartscoalition.com
SUMMARY:Live Band Night with The White Rock Rhythm Kings
DESCRIPTION:May 30\, 6pm-9:30pm\nLive Band Night with The White Rock Rhythm Kings\n3551 Moncton Street\nJoin us for Live Band Night in partnership with Steveston Hub! Meet new and familiar faces\, enjoy live music\, dance with friends\, and treat yourself to delicious snacks and drinks. Support our local community of talented musicians while having a great time! Start the evening with a beginner-friendly Lindy Hop class—no experience or partner needed. Everyone is welcome\, and you can jump in anytime! This is a family-friendly event\, with free admission for children 11 and under.\nWebsite: https://www.swingoutrichmond.ca/
URL:https://richmondartscoalition.com/event/live-band-night-with-the-white-rock-rhythm-kings/
LOCATION:3551 Moncton Street\, 3551 Moncton Street\, Richmond\, Canada
CATEGORIES:Concert,Dance,Interactive Activity
END:VEVENT
END:VCALENDAR