BEGIN:VCALENDAR
VERSION:2.0
PRODID:-//Richmond Arts Coalition - ECPv6.15.18//NONSGML v1.0//EN
CALSCALE:GREGORIAN
METHOD:PUBLISH
X-WR-CALNAME:Richmond Arts Coalition
X-ORIGINAL-URL:https://richmondartscoalition.com
X-WR-CALDESC:Events for Richmond Arts Coalition
REFRESH-INTERVAL;VALUE=DURATION:PT1H
X-Robots-Tag:noindex
X-PUBLISHED-TTL:PT1H
BEGIN:VTIMEZONE
TZID:America/Vancouver
BEGIN:DAYLIGHT
TZOFFSETFROM:-0800
TZOFFSETTO:-0700
TZNAME:PDT
DTSTART:20250309T100000
END:DAYLIGHT
BEGIN:STANDARD
TZOFFSETFROM:-0700
TZOFFSETTO:-0800
TZNAME:PST
DTSTART:20251102T090000
END:STANDARD
BEGIN:DAYLIGHT
TZOFFSETFROM:-0800
TZOFFSETTO:-0700
TZNAME:PDT
DTSTART:20260308T100000
END:DAYLIGHT
BEGIN:STANDARD
TZOFFSETFROM:-0700
TZOFFSETTO:-0800
TZNAME:PST
DTSTART:20261101T090000
END:STANDARD
BEGIN:DAYLIGHT
TZOFFSETFROM:-0800
TZOFFSETTO:-0700
TZNAME:PDT
DTSTART:20270314T100000
END:DAYLIGHT
BEGIN:STANDARD
TZOFFSETFROM:-0700
TZOFFSETTO:-0800
TZNAME:PST
DTSTART:20271107T090000
END:STANDARD
END:VTIMEZONE
BEGIN:VEVENT
DTSTART;VALUE=DATE:20260527
DTEND;VALUE=DATE:20260530
DTSTAMP:20260425T165612
CREATED:20260421T065752Z
LAST-MODIFIED:20260421T065752Z
UID:36296-1779840000-1780099199@richmondartscoalition.com
SUMMARY:The Sound of Music
DESCRIPTION:May 27 – May 29\, 7pm\nThe Sound of Music\nGateway Theatre\n6500 Gilbert Road\nRichmond Christian School proudly presents The Sound of Music\, a large-scale\, multi-campus production that brings together students from across our community in a shared celebration of storytelling\, music\, and performing arts.\nWebsite: https://www.gatewaytheatre.com/events/rcs-2026/
URL:https://richmondartscoalition.com/event/the-sound-of-music/
LOCATION:Gateway Theatre\, 6500 Gilbert Road\, Richmond\, BC\, V7C 3V4\, Canada
CATEGORIES:Performance,Play
END:VEVENT
BEGIN:VEVENT
DTSTART;TZID=America/Vancouver:20260528T180000
DTEND;TZID=America/Vancouver:20260528T203000
DTSTAMP:20260425T165612
CREATED:20260421T043948Z
LAST-MODIFIED:20260421T044000Z
UID:36266-1779991200-1780000200@richmondartscoalition.com
SUMMARY:Lulu Series: Migration Patterns from Chinatowns to Ethnoburbs
DESCRIPTION:May 28\, 6pm\nLulu Series: Migration Patterns from Chinatowns to Ethnoburbs\nRichmond Cultural Centre\, Theatre Under the Stairs\n7700 Minoru Gate\nJoin Morris Lum in a discussion about his Chinatown | Tong Yan Gaai photographic series that documents Chinatowns across Canada and the United States. Over the last decade\, Lumhas has focused and directed attention towards the functionality of Chinatowns\, exploring the generational context of how “Chinese” identity is expressed in these structural enclaves. Armed with a large-format camera\, the artist has documented Chinatowns in Victoria\, Vancouver\, Calgary\, Edmonton\, Winnipeg\, Toronto\, Ottawa\, Montreal\, Chicago\, Oakland\, Seattle\, Philadelphia\, San Francisco\, Los Angeles\, Manhattan and Boston. The talk will offer an overview of this body of work and will hint at the next phases of the series.\nWebsite: https://www.richmondartgallery.org/lulu-may2026
URL:https://richmondartscoalition.com/event/lulu-series-migration-patterns-from-chinatowns-to-ethnoburbs/
LOCATION:Richmond Cultural Centre\, 7700 Minoru Gate\, Richmond\, BC\, V6Y 1R9\, Canada
CATEGORIES:Art Exhibition,Artist Salon or Author Event
END:VEVENT
BEGIN:VEVENT
DTSTART;VALUE=DATE:20260530
DTEND;VALUE=DATE:20260531
DTSTAMP:20260425T165612
CREATED:20260421T070253Z
LAST-MODIFIED:20260421T070253Z
UID:36302-1780099200-1780185599@richmondartscoalition.com
SUMMARY:RDYO Year-End Concert
DESCRIPTION:May 30\nRDYO Year-End Concert\nGateway Theatre\n6500 Gilbert Road\nWebsite: https://www.rdyo.ca/upcoming-events
URL:https://richmondartscoalition.com/event/rdyo-year-end-concert/
LOCATION:Gateway Theatre\, 6500 Gilbert Road\, Richmond\, BC\, V7C 3V4\, Canada
CATEGORIES:Concert,Performance
END:VEVENT
BEGIN:VEVENT
DTSTART;TZID=America/Vancouver:20260530T180000
DTEND;TZID=America/Vancouver:20260530T213000
DTSTAMP:20260425T165612
CREATED:20260421T041745Z
LAST-MODIFIED:20260421T041745Z
UID:36258-1780164000-1780176600@richmondartscoalition.com
SUMMARY:Live Band Night with The White Rock Rhythm Kings
DESCRIPTION:May 30\, 6pm-9:30pm\nLive Band Night with The White Rock Rhythm Kings\n3551 Moncton Street\nJoin us for Live Band Night in partnership with Steveston Hub! Meet new and familiar faces\, enjoy live music\, dance with friends\, and treat yourself to delicious snacks and drinks. Support our local community of talented musicians while having a great time! Start the evening with a beginner-friendly Lindy Hop class—no experience or partner needed. Everyone is welcome\, and you can jump in anytime! This is a family-friendly event\, with free admission for children 11 and under.\nWebsite: https://www.swingoutrichmond.ca/
URL:https://richmondartscoalition.com/event/live-band-night-with-the-white-rock-rhythm-kings/
LOCATION:3551 Moncton Street\, 3551 Moncton Street\, Richmond\, Canada
CATEGORIES:Concert,Dance,Interactive Activity
END:VEVENT
END:VCALENDAR